BEGIN:VCALENDAR
VERSION:2.0
PRODID:icalendar-ruby
CALSCALE:GREGORIAN
BEGIN:VEVENT
DTSTAMP:20260423T060712Z
UID:976c059d-2cbb-4127-8f4f-f53693b4520e
DTSTART;TZID=Pacific/Auckland:20260426T131500
DTEND;TZID=Pacific/Auckland:20260426T134500
DESCRIPTION:Property ID# 606366\nhttps://www.nz.open2view.com/properties/60
 6366
SUMMARY:Openhome for 152C King Street
END:VEVENT
END:VCALENDAR
