BEGIN:VCALENDAR
VERSION:2.0
PRODID:icalendar-ruby
CALSCALE:GREGORIAN
BEGIN:VEVENT
DTSTAMP:20260422T140348Z
UID:30a3baed-4ffa-415c-b2e0-0fa088624292
DTSTART;TZID=Pacific/Auckland:20260426T100000
DTEND;TZID=Pacific/Auckland:20260426T104500
DESCRIPTION:Property ID# 606013\nhttps://www.nz.open2view.com/properties/60
 6013
SUMMARY:Openhome for 23 Waterford Avenue
END:VEVENT
END:VCALENDAR
