BEGIN:VCALENDAR
VERSION:2.0
PRODID:icalendar-ruby
CALSCALE:GREGORIAN
BEGIN:VEVENT
DTSTAMP:20260421T215854Z
UID:b863eda7-db27-44c3-9853-a82325ca00c9
DTSTART;TZID=Pacific/Auckland:20260426T120000
DTEND;TZID=Pacific/Auckland:20260426T123000
DESCRIPTION:Property ID# 604914\nhttps://www.nz.open2view.com/properties/60
 4914
SUMMARY:Openhome for 42 Waratah Street
END:VEVENT
END:VCALENDAR
