BEGIN:VCALENDAR
VERSION:2.0
PRODID:icalendar-ruby
CALSCALE:GREGORIAN
BEGIN:VEVENT
DTSTAMP:20260425T002141Z
UID:9e448e0b-f04e-4fcb-92fc-cda87b8f4978
DTSTART;TZID=Pacific/Auckland:20260426T103000
DTEND;TZID=Pacific/Auckland:20260426T111500
DESCRIPTION:Property ID# 604794\nhttps://www.nz.open2view.com/properties/60
 4794
SUMMARY:Openhome for 8 Kingi Place
END:VEVENT
END:VCALENDAR
