BEGIN:VCALENDAR
VERSION:2.0
PRODID:icalendar-ruby
CALSCALE:GREGORIAN
BEGIN:VEVENT
DTSTAMP:20260420T075748Z
UID:32d0bb16-5c0f-4260-8cc7-442cf38b2461
DTSTART;TZID=Pacific/Auckland:20260426T124500
DTEND;TZID=Pacific/Auckland:20260426T133000
DESCRIPTION:Property ID# 604269\nhttps://www.nz.open2view.com/properties/60
 4269
SUMMARY:Openhome for 34 Ballance Street
END:VEVENT
END:VCALENDAR
