BEGIN:VCALENDAR
VERSION:2.0
PRODID:icalendar-ruby
CALSCALE:GREGORIAN
BEGIN:VEVENT
DTSTAMP:20260422T200222Z
UID:9f954d6a-f74a-4964-8fd0-c5179b125f3e
DTSTART;TZID=Pacific/Auckland:20260426T124500
DTEND;TZID=Pacific/Auckland:20260426T133000
DESCRIPTION:Property ID# 604395\nhttps://www.nz.open2view.com/properties/60
 4395
SUMMARY:Openhome for 34A Ballance Street
END:VEVENT
END:VCALENDAR
