BEGIN:VCALENDAR
VERSION:2.0
PRODID:icalendar-ruby
CALSCALE:GREGORIAN
BEGIN:VEVENT
DTSTAMP:20260420T183027Z
UID:3cd4ba95-be52-40ff-becf-a8787e1a7160
DTSTART;TZID=Pacific/Auckland:20260426T134500
DTEND;TZID=Pacific/Auckland:20260426T141500
DESCRIPTION:Property ID# 606903\nhttps://www.nz.open2view.com/properties/60
 6903
SUMMARY:Openhome for 29 Camellia Drive
END:VEVENT
END:VCALENDAR
