BEGIN:VCALENDAR
VERSION:2.0
PRODID:icalendar-ruby
CALSCALE:GREGORIAN
BEGIN:VEVENT
DTSTAMP:20260421T115301Z
UID:27767d7f-89a1-4763-b422-2ff5d119b6a2
DTSTART;TZID=Pacific/Auckland:20260426T121500
DTEND;TZID=Pacific/Auckland:20260426T124500
DESCRIPTION:Property ID# 604987\nhttps://www.nz.open2view.com/properties/60
 4987
SUMMARY:Openhome for 10 Winspear Place
END:VEVENT
END:VCALENDAR
