BEGIN:VCALENDAR
VERSION:2.0
PRODID:icalendar-ruby
CALSCALE:GREGORIAN
BEGIN:VEVENT
DTSTAMP:20260421T080827Z
UID:ae86c75a-96fe-4947-a847-1a2e8b58b870
DTSTART;TZID=Pacific/Auckland:20260426T130000
DTEND;TZID=Pacific/Auckland:20260426T133000
DESCRIPTION:Property ID# 605922\nhttps://www.nz.open2view.com/properties/60
 5922
SUMMARY:Openhome for 8 Johnson Street
END:VEVENT
END:VCALENDAR
