BEGIN:VCALENDAR
VERSION:2.0
PRODID:icalendar-ruby
CALSCALE:GREGORIAN
BEGIN:VEVENT
DTSTAMP:20260420T170030Z
UID:425f6630-35cf-4aad-af82-34e3f1e9cbbf
DTSTART;TZID=Pacific/Auckland:20260426T120000
DTEND;TZID=Pacific/Auckland:20260426T123000
DESCRIPTION:Property ID# 606264\nhttps://www.nz.open2view.com/properties/60
 6264
SUMMARY:Openhome for 48 Hawkridge Heights
END:VEVENT
END:VCALENDAR
