BEGIN:VCALENDAR
VERSION:2.0
PRODID:icalendar-ruby
CALSCALE:GREGORIAN
BEGIN:VEVENT
DTSTAMP:20260421T141130Z
UID:9f89eecc-d8cf-4981-856f-d228a192c5ee
DTSTART;TZID=Pacific/Auckland:20260426T130000
DTEND;TZID=Pacific/Auckland:20260426T133000
DESCRIPTION:Property ID# 602100\nhttps://www.nz.open2view.com/properties/60
 2100
SUMMARY:Openhome for 41 Plateau Heights
END:VEVENT
END:VCALENDAR
