BEGIN:VCALENDAR
VERSION:2.0
PRODID:icalendar-ruby
CALSCALE:GREGORIAN
BEGIN:VEVENT
DTSTAMP:20260421T215829Z
UID:42f7769e-6751-43e0-9c81-1d5efbeca122
DTSTART;TZID=Pacific/Auckland:20260425T130000
DTEND;TZID=Pacific/Auckland:20260425T134500
DESCRIPTION:Property ID# 604370\nhttps://www.nz.open2view.com/properties/60
 4370
SUMMARY:Openhome for 782A Papamoa Beach Road
END:VEVENT
END:VCALENDAR
