BEGIN:VCALENDAR
VERSION:2.0
PRODID:icalendar-ruby
CALSCALE:GREGORIAN
BEGIN:VEVENT
DTSTAMP:20260421T215756Z
UID:73003f1f-7c43-48d8-952d-c082d17ae4a5
DTSTART;TZID=Pacific/Auckland:20260426T130000
DTEND;TZID=Pacific/Auckland:20260426T134500
DESCRIPTION:Property ID# 604370\nhttps://www.nz.open2view.com/properties/60
 4370
SUMMARY:Openhome for 782A Papamoa Beach Road
END:VEVENT
END:VCALENDAR
