BEGIN:VCALENDAR
VERSION:2.0
PRODID:icalendar-ruby
CALSCALE:GREGORIAN
BEGIN:VEVENT
DTSTAMP:20260422T210112Z
UID:f2c3fcc7-16ac-4cab-bffb-e4dcb02e7aaa
DTSTART;TZID=Pacific/Auckland:20260427T123000
DTEND;TZID=Pacific/Auckland:20260427T130000
DESCRIPTION:Property ID# 606960\nhttps://www.nz.open2view.com/properties/60
 6960
SUMMARY:Openhome for 111 Queens Drive
END:VEVENT
END:VCALENDAR
