BEGIN:VCALENDAR
VERSION:2.0
PRODID:icalendar-ruby
CALSCALE:GREGORIAN
BEGIN:VEVENT
DTSTAMP:20260420T182919Z
UID:443b83fd-d12a-4b3b-a71c-b1ec5206f5f8
DTSTART;TZID=Pacific/Auckland:20260426T130000
DTEND;TZID=Pacific/Auckland:20260426T133000
DESCRIPTION:Property ID# 606053\nhttps://www.nz.open2view.com/properties/60
 6053
SUMMARY:Openhome for 46 Otuhiwai Crescent
END:VEVENT
END:VCALENDAR
