BEGIN:VCALENDAR
VERSION:2.0
PRODID:icalendar-ruby
CALSCALE:GREGORIAN
BEGIN:VEVENT
DTSTAMP:20260420T182920Z
UID:1ff085c4-3ce3-400d-a746-f4933872f11f
DTSTART;TZID=Pacific/Auckland:20260425T130000
DTEND;TZID=Pacific/Auckland:20260425T133000
DESCRIPTION:Property ID# 606486\nhttps://www.nz.open2view.com/properties/60
 6486
SUMMARY:Openhome for 4 Botany Lane\, Whitby
END:VEVENT
END:VCALENDAR
