BEGIN:VCALENDAR
VERSION:2.0
PRODID:icalendar-ruby
CALSCALE:GREGORIAN
BEGIN:VEVENT
DTSTAMP:20260420T182919Z
UID:1e8ce5fd-82d5-4bc4-9b62-db4a5ca6497a
DTSTART;TZID=Pacific/Auckland:20260502T130000
DTEND;TZID=Pacific/Auckland:20260502T133000
DESCRIPTION:Property ID# 606486\nhttps://www.nz.open2view.com/properties/60
 6486
SUMMARY:Openhome for 4 Botany Lane\, Whitby
END:VEVENT
END:VCALENDAR
