BEGIN:VCALENDAR
VERSION:2.0
PRODID:icalendar-ruby
CALSCALE:GREGORIAN
BEGIN:VEVENT
DTSTAMP:20260420T182919Z
UID:410aecda-ae0e-4ebe-a66d-e1aae2907794
DTSTART;TZID=Pacific/Auckland:20260503T130000
DTEND;TZID=Pacific/Auckland:20260503T133000
DESCRIPTION:Property ID# 606486\nhttps://www.nz.open2view.com/properties/60
 6486
SUMMARY:Openhome for 4 Botany Lane\, Whitby
END:VEVENT
END:VCALENDAR
