BEGIN:VCALENDAR
VERSION:2.0
PRODID:icalendar-ruby
CALSCALE:GREGORIAN
BEGIN:VEVENT
DTSTAMP:20260420T182918Z
UID:f70cc006-7eab-4aca-981e-91b1b9b53662
DTSTART;TZID=Pacific/Auckland:20260510T130000
DTEND;TZID=Pacific/Auckland:20260510T133000
DESCRIPTION:Property ID# 606486\nhttps://www.nz.open2view.com/properties/60
 6486
SUMMARY:Openhome for 4 Botany Lane\, Whitby
END:VEVENT
END:VCALENDAR
