BEGIN:VCALENDAR
VERSION:2.0
PRODID:icalendar-ruby
CALSCALE:GREGORIAN
BEGIN:VEVENT
DTSTAMP:20260421T154207Z
UID:31c2e08f-19c2-4b89-b6a0-587cfd9f3324
DTSTART;TZID=Pacific/Auckland:20260426T150000
DTEND;TZID=Pacific/Auckland:20260426T153000
DESCRIPTION:Property ID# 605712\nhttps://www.nz.open2view.com/properties/60
 5712
SUMMARY:Openhome for 52 Cairnfield Road
END:VEVENT
END:VCALENDAR
