BEGIN:VCALENDAR
VERSION:2.0
PRODID:icalendar-ruby
CALSCALE:GREGORIAN
BEGIN:VEVENT
DTSTAMP:20260420T201946Z
UID:5779d47d-70d3-4bb4-9415-d115cdcd6ab6
DTSTART;TZID=Pacific/Auckland:20260426T120000
DTEND;TZID=Pacific/Auckland:20260426T123000
DESCRIPTION:Property ID# 606197\nhttps://www.nz.open2view.com/properties/60
 6197
SUMMARY:Openhome for 493 Karaka Bay Road
END:VEVENT
END:VCALENDAR
