BEGIN:VCALENDAR
VERSION:2.0
PRODID:icalendar-ruby
CALSCALE:GREGORIAN
BEGIN:VEVENT
DTSTAMP:20260421T141238Z
UID:07fa71a6-ad90-43ec-ba5d-456b1aa77543
DTSTART;TZID=Pacific/Auckland:20260427T141500
DTEND;TZID=Pacific/Auckland:20260427T144500
DESCRIPTION:Property ID# 605599\nhttps://www.nz.open2view.com/properties/60
 5599
SUMMARY:Openhome for 144 Laurie Street
END:VEVENT
END:VCALENDAR
