BEGIN:VCALENDAR
VERSION:2.0
PRODID:icalendar-ruby
CALSCALE:GREGORIAN
BEGIN:VEVENT
DTSTAMP:20260424T180108Z
UID:f865f00f-6fa3-4a0e-a3cc-63e1aab13e14
DTSTART;TZID=Pacific/Auckland:20260427T120000
DTEND;TZID=Pacific/Auckland:20260427T123000
DESCRIPTION:Property ID# 604474\nhttps://www.nz.open2view.com/properties/60
 4474
SUMMARY:Openhome for 24 Te Aranui Drive
END:VEVENT
END:VCALENDAR
