BEGIN:VCALENDAR
VERSION:2.0
PRODID:icalendar-ruby
CALSCALE:GREGORIAN
BEGIN:VEVENT
DTSTAMP:20260420T113615Z
UID:fb681480-3c6a-44bf-b6cd-9ba42f3b5244
DTSTART;TZID=Pacific/Auckland:20260427T140000
DTEND;TZID=Pacific/Auckland:20260427T143000
DESCRIPTION:Property ID# 603534\nhttps://www.nz.open2view.com/properties/60
 3534
SUMMARY:Openhome for 105 Heaphy Street
END:VEVENT
END:VCALENDAR
