BEGIN:VCALENDAR
VERSION:2.0
PRODID:icalendar-ruby
CALSCALE:GREGORIAN
BEGIN:VEVENT
DTSTAMP:20260421T100219Z
UID:6760fd30-5175-4b41-8150-0f01d9684679
DTSTART;TZID=Pacific/Auckland:20260425T130000
DTEND;TZID=Pacific/Auckland:20260425T133000
DESCRIPTION:Property ID# 605422\nhttps://www.nz.open2view.com/properties/60
 5422
SUMMARY:Openhome for 8 Blossom Grove
END:VEVENT
END:VCALENDAR
