BEGIN:VCALENDAR
VERSION:2.0
PRODID:icalendar-ruby
CALSCALE:GREGORIAN
BEGIN:VEVENT
DTSTAMP:20260421T121900Z
UID:414ffe7d-cde7-47d3-9284-613b398e1519
DTSTART;TZID=Pacific/Auckland:20260426T121500
DTEND;TZID=Pacific/Auckland:20260426T130000
DESCRIPTION:Property ID# 605465\nhttps://www.nz.open2view.com/properties/60
 5465
SUMMARY:Openhome for 18 KO PLACE
END:VEVENT
END:VCALENDAR
