BEGIN:VCALENDAR
VERSION:2.0
PRODID:icalendar-ruby
CALSCALE:GREGORIAN
BEGIN:VEVENT
DTSTAMP:20260421T122313Z
UID:fae15e05-c09c-4d4c-9778-e5dbf3ebdb7e
DTSTART;TZID=Pacific/Auckland:20260503T121500
DTEND;TZID=Pacific/Auckland:20260503T130000
DESCRIPTION:Property ID# 605465\nhttps://www.nz.open2view.com/properties/60
 5465
SUMMARY:Openhome for 18 KO PLACE
END:VEVENT
END:VCALENDAR
