BEGIN:VCALENDAR
VERSION:2.0
PRODID:icalendar-ruby
CALSCALE:GREGORIAN
BEGIN:VEVENT
DTSTAMP:20260421T133117Z
UID:3e4e3818-7220-4b18-add3-76f0984411ca
DTSTART;TZID=Pacific/Auckland:20260426T131500
DTEND;TZID=Pacific/Auckland:20260426T134500
DESCRIPTION:Property ID# 606189\nhttps://www.nz.open2view.com/properties/60
 6189
SUMMARY:Openhome for 13 Kowhai Street
END:VEVENT
END:VCALENDAR
