BEGIN:VCALENDAR
VERSION:2.0
PRODID:icalendar-ruby
CALSCALE:GREGORIAN
BEGIN:VEVENT
DTSTAMP:20260421T215946Z
UID:affbc4b5-d69c-43b2-886a-b7289f42830a
DTSTART;TZID=Pacific/Auckland:20260426T120000
DTEND;TZID=Pacific/Auckland:20260426T123000
DESCRIPTION:Property ID# 606216\nhttps://www.nz.open2view.com/properties/60
 6216
SUMMARY:Openhome for 182 Dalton Avenue
END:VEVENT
END:VCALENDAR
