BEGIN:VCALENDAR
VERSION:2.0
PRODID:icalendar-ruby
CALSCALE:GREGORIAN
BEGIN:VEVENT
DTSTAMP:20260421T200100Z
UID:3bb3d191-4ed3-4df8-baf7-d64918159a19
DTSTART;TZID=Pacific/Auckland:20260425T150000
DTEND;TZID=Pacific/Auckland:20260425T153000
DESCRIPTION:Property ID# 604744\nhttps://www.nz.open2view.com/properties/60
 4744
SUMMARY:Openhome for 62 Dysart Lane
END:VEVENT
END:VCALENDAR
