BEGIN:VCALENDAR
VERSION:2.0
PRODID:icalendar-ruby
CALSCALE:GREGORIAN
BEGIN:VEVENT
DTSTAMP:20260423T182728Z
UID:d11f8c99-beee-4718-b119-84fa41447ad6
DTSTART;TZID=Pacific/Auckland:20260426T133000
DTEND;TZID=Pacific/Auckland:20260426T140000
DESCRIPTION:Property ID# 606968\nhttps://www.nz.open2view.com/properties/60
 6968
SUMMARY:Openhome for 50 Alison Street
END:VEVENT
END:VCALENDAR
