BEGIN:VCALENDAR
VERSION:2.0
PRODID:icalendar-ruby
CALSCALE:GREGORIAN
BEGIN:VEVENT
DTSTAMP:20260423T224200Z
UID:55d62050-4004-4975-a7bd-813ea4680d43
DTSTART;TZID=Pacific/Auckland:20260426T120000
DTEND;TZID=Pacific/Auckland:20260426T123000
DESCRIPTION:Property ID# 606210\nhttps://www.nz.open2view.com/properties/60
 6210
SUMMARY:Openhome for 5 Papawai Grove
END:VEVENT
END:VCALENDAR
