BEGIN:VCALENDAR
VERSION:2.0
PRODID:icalendar-ruby
CALSCALE:GREGORIAN
BEGIN:VEVENT
DTSTAMP:20260421T161552Z
UID:415a2ffd-04ff-46e5-96e8-dec31289b2ff
DTSTART;TZID=Pacific/Auckland:20260510T120000
DTEND;TZID=Pacific/Auckland:20260510T124500
DESCRIPTION:Property ID# 605820\nhttps://www.nz.open2view.com/properties/60
 5820
SUMMARY:Openhome for 49 Orion Drive
END:VEVENT
END:VCALENDAR
