BEGIN:VCALENDAR
VERSION:2.0
PRODID:icalendar-ruby
CALSCALE:GREGORIAN
BEGIN:VEVENT
DTSTAMP:20260421T161746Z
UID:0419c642-a3a2-4923-980e-4a158c5eb48a
DTSTART;TZID=Pacific/Auckland:20260517T120000
DTEND;TZID=Pacific/Auckland:20260517T124500
DESCRIPTION:Property ID# 605820\nhttps://www.nz.open2view.com/properties/60
 5820
SUMMARY:Openhome for 49 Orion Drive
END:VEVENT
END:VCALENDAR
