BEGIN:VCALENDAR
VERSION:2.0
PRODID:icalendar-ruby
CALSCALE:GREGORIAN
BEGIN:VEVENT
DTSTAMP:20260423T134937Z
UID:e5eed39c-3f05-423f-9d1c-c3ffd696717d
DTSTART;TZID=Pacific/Auckland:20260426T123000
DTEND;TZID=Pacific/Auckland:20260426T130000
DESCRIPTION:Property ID# 604522\nhttps://www.nz.open2view.com/properties/60
 4522
SUMMARY:Openhome for 229B Crawford Road
END:VEVENT
END:VCALENDAR
