BEGIN:VCALENDAR
VERSION:2.0
PRODID:icalendar-ruby
CALSCALE:GREGORIAN
BEGIN:VEVENT
DTSTAMP:20260422T115446Z
UID:f84e5bfd-60f0-41bd-9133-15444d2a6e20
DTSTART;TZID=Pacific/Auckland:20260426T131500
DTEND;TZID=Pacific/Auckland:20260426T140000
DESCRIPTION:Property ID# 605374\nhttps://www.nz.open2view.com/properties/60
 5374
SUMMARY:Openhome for 101 Turntable Hill Road
END:VEVENT
END:VCALENDAR
