BEGIN:VCALENDAR
VERSION:2.0
PRODID:icalendar-ruby
CALSCALE:GREGORIAN
BEGIN:VEVENT
DTSTAMP:20260421T122814Z
UID:35562beb-1311-4616-a3be-9aeac5262784
DTSTART;TZID=Pacific/Auckland:20260426T150000
DTEND;TZID=Pacific/Auckland:20260426T153000
DESCRIPTION:Property ID# 606800\nhttps://www.nz.open2view.com/properties/60
 6800
SUMMARY:Openhome for 3 Kowai Place
END:VEVENT
END:VCALENDAR
