BEGIN:VCALENDAR
VERSION:2.0
PRODID:icalendar-ruby
CALSCALE:GREGORIAN
BEGIN:VEVENT
DTSTAMP:20260422T152744Z
UID:cf839cbb-607a-4ad4-a1e1-0cd9b38bcfcb
DTSTART;TZID=Pacific/Auckland:20260425T100000
DTEND;TZID=Pacific/Auckland:20260425T103000
DESCRIPTION:Property ID# 605462\nhttps://www.nz.open2view.com/properties/60
 5462
SUMMARY:Openhome for 1282A Papamoa Beach Road
END:VEVENT
END:VCALENDAR
