BEGIN:VCALENDAR
VERSION:2.0
PRODID:icalendar-ruby
CALSCALE:GREGORIAN
BEGIN:VEVENT
DTSTAMP:20260422T153434Z
UID:1e8b0c4f-c085-4635-8352-062bf2ecc6ca
DTSTART;TZID=Pacific/Auckland:20260426T100000
DTEND;TZID=Pacific/Auckland:20260426T103000
DESCRIPTION:Property ID# 605462\nhttps://www.nz.open2view.com/properties/60
 5462
SUMMARY:Openhome for 1282A Papamoa Beach Road
END:VEVENT
END:VCALENDAR
