BEGIN:VCALENDAR
VERSION:2.0
PRODID:icalendar-ruby
CALSCALE:GREGORIAN
BEGIN:VEVENT
DTSTAMP:20260423T072703Z
UID:77678896-29b0-4796-ba18-5e5d03d46642
DTSTART;TZID=Pacific/Auckland:20260425T110000
DTEND;TZID=Pacific/Auckland:20260425T113000
DESCRIPTION:Property ID# 604902\nhttps://www.nz.open2view.com/properties/60
 4902
SUMMARY:Openhome for 28 Success Court
END:VEVENT
END:VCALENDAR
