BEGIN:VCALENDAR
VERSION:2.0
PRODID:icalendar-ruby
CALSCALE:GREGORIAN
BEGIN:VEVENT
DTSTAMP:20260423T072935Z
UID:a5370019-3d87-47a8-8c6f-f560d537052f
DTSTART;TZID=Pacific/Auckland:20260426T110000
DTEND;TZID=Pacific/Auckland:20260426T113000
DESCRIPTION:Property ID# 604902\nhttps://www.nz.open2view.com/properties/60
 4902
SUMMARY:Openhome for 28 Success Court
END:VEVENT
END:VCALENDAR
