BEGIN:VCALENDAR
VERSION:2.0
PRODID:icalendar-ruby
CALSCALE:GREGORIAN
BEGIN:VEVENT
DTSTAMP:20260423T004126Z
UID:96ad5aa9-f379-4a23-9225-d28b5e674ef2
DTSTART;TZID=Pacific/Auckland:20260425T113000
DTEND;TZID=Pacific/Auckland:20260425T120000
DESCRIPTION:Property ID# 604413\nhttps://www.nz.open2view.com/properties/60
 4413
SUMMARY:Openhome for 6 Jane Gifford Place
END:VEVENT
END:VCALENDAR
