BEGIN:VCALENDAR
VERSION:2.0
PRODID:icalendar-ruby
CALSCALE:GREGORIAN
BEGIN:VEVENT
DTSTAMP:20260423T004126Z
UID:340c1e14-0bc6-4560-97dc-555e21b3c60f
DTSTART;TZID=Pacific/Auckland:20260426T113000
DTEND;TZID=Pacific/Auckland:20260426T120000
DESCRIPTION:Property ID# 604413\nhttps://www.nz.open2view.com/properties/60
 4413
SUMMARY:Openhome for 6 Jane Gifford Place
END:VEVENT
END:VCALENDAR
