BEGIN:VCALENDAR
VERSION:2.0
PRODID:icalendar-ruby
CALSCALE:GREGORIAN
BEGIN:VEVENT
DTSTAMP:20260423T035229Z
UID:ffd972a2-abc7-466a-8a3a-1909f7449bc1
DTSTART;TZID=Pacific/Auckland:20260425T113000
DTEND;TZID=Pacific/Auckland:20260425T120000
DESCRIPTION:Property ID# 606346\nhttps://www.nz.open2view.com/properties/60
 6346
SUMMARY:Openhome for 70 Omaha Drive
END:VEVENT
END:VCALENDAR
