BEGIN:VCALENDAR
VERSION:2.0
PRODID:icalendar-ruby
CALSCALE:GREGORIAN
BEGIN:VEVENT
DTSTAMP:20260423T035057Z
UID:2abd522c-5dc8-412f-b9f6-6d19826585a0
DTSTART;TZID=Pacific/Auckland:20260426T113000
DTEND;TZID=Pacific/Auckland:20260426T120000
DESCRIPTION:Property ID# 606346\nhttps://www.nz.open2view.com/properties/60
 6346
SUMMARY:Openhome for 70 Omaha Drive
END:VEVENT
END:VCALENDAR
