BEGIN:VCALENDAR
VERSION:2.0
PRODID:icalendar-ruby
CALSCALE:GREGORIAN
BEGIN:VEVENT
DTSTAMP:20260424T185654Z
UID:be0b04e9-9929-44cc-84de-bc253d63ec0d
DTSTART;TZID=Pacific/Auckland:20260425T140000
DTEND;TZID=Pacific/Auckland:20260425T143000
DESCRIPTION:Property ID# 603902\nhttps://www.nz.open2view.com/properties/60
 3902
SUMMARY:Openhome for 5 Kotare Place
END:VEVENT
END:VCALENDAR
