BEGIN:VCALENDAR
VERSION:2.0
PRODID:icalendar-ruby
CALSCALE:GREGORIAN
BEGIN:VEVENT
DTSTAMP:20260422T210129Z
UID:3d83199b-dca7-44df-88f1-55984ef486f3
DTSTART;TZID=Pacific/Auckland:20260426T130000
DTEND;TZID=Pacific/Auckland:20260426T133000
DESCRIPTION:Property ID# 606922\nhttps://www.nz.open2view.com/properties/60
 6922
SUMMARY:Openhome for 27A Barron Crescent
END:VEVENT
END:VCALENDAR
