BEGIN:VCALENDAR
VERSION:2.0
PRODID:icalendar-ruby
CALSCALE:GREGORIAN
BEGIN:VEVENT
DTSTAMP:20260422T210130Z
UID:e613fe56-367b-469f-8f49-04419cee2b80
DTSTART;TZID=Pacific/Auckland:20260425T130000
DTEND;TZID=Pacific/Auckland:20260425T134500
DESCRIPTION:Property ID# 606977\nhttps://www.nz.open2view.com/properties/60
 6977
SUMMARY:Openhome for 3 Regents Park Place
END:VEVENT
END:VCALENDAR
