BEGIN:VCALENDAR
VERSION:2.0
PRODID:icalendar-ruby
CALSCALE:GREGORIAN
BEGIN:VEVENT
DTSTAMP:20260422T210130Z
UID:96385bcb-cf87-4d29-9b37-70fb253ac137
DTSTART;TZID=Pacific/Auckland:20260426T130000
DTEND;TZID=Pacific/Auckland:20260426T134500
DESCRIPTION:Property ID# 606977\nhttps://www.nz.open2view.com/properties/60
 6977
SUMMARY:Openhome for 3 Regents Park Place
END:VEVENT
END:VCALENDAR
