BEGIN:VCALENDAR
VERSION:2.0
PRODID:icalendar-ruby
CALSCALE:GREGORIAN
BEGIN:VEVENT
DTSTAMP:20260422T210129Z
UID:5e811937-b1cd-458a-b716-5beae59f7c9a
DTSTART;TZID=Pacific/Auckland:20260425T140000
DTEND;TZID=Pacific/Auckland:20260425T143000
DESCRIPTION:Property ID# 607030\nhttps://www.nz.open2view.com/properties/60
 7030
SUMMARY:Openhome for 302/2A Truro Road
END:VEVENT
END:VCALENDAR
